BEGIN:VCALENDAR
VERSION:2.0
PRODID:-//Grundschule Pfaffenwoog - ECPv6.15.13.1//NONSGML v1.0//EN
CALSCALE:GREGORIAN
METHOD:PUBLISH
X-ORIGINAL-URL:https://gs-pfaffenwoog.de
X-WR-CALDESC:Veranstaltungen für Grundschule Pfaffenwoog
REFRESH-INTERVAL;VALUE=DURATION:PT1H
X-Robots-Tag:noindex
X-PUBLISHED-TTL:PT1H
BEGIN:VTIMEZONE
TZID:Europe/Paris
BEGIN:DAYLIGHT
TZOFFSETFROM:+0100
TZOFFSETTO:+0200
TZNAME:CEST
DTSTART:20220327T010000
END:DAYLIGHT
BEGIN:STANDARD
TZOFFSETFROM:+0200
TZOFFSETTO:+0100
TZNAME:CET
DTSTART:20221030T010000
END:STANDARD
BEGIN:DAYLIGHT
TZOFFSETFROM:+0100
TZOFFSETTO:+0200
TZNAME:CEST
DTSTART:20230326T010000
END:DAYLIGHT
BEGIN:STANDARD
TZOFFSETFROM:+0200
TZOFFSETTO:+0100
TZNAME:CET
DTSTART:20231029T010000
END:STANDARD
BEGIN:DAYLIGHT
TZOFFSETFROM:+0100
TZOFFSETTO:+0200
TZNAME:CEST
DTSTART:20240331T010000
END:DAYLIGHT
BEGIN:STANDARD
TZOFFSETFROM:+0200
TZOFFSETTO:+0100
TZNAME:CET
DTSTART:20241027T010000
END:STANDARD
END:VTIMEZONE
BEGIN:VEVENT
DTSTART;TZID=Europe/Paris:20231005T190000
DTEND;TZID=Europe/Paris:20231005T200000
DTSTAMP:20260421T144655
CREATED:20230922T062943Z
LAST-MODIFIED:20230922T062943Z
UID:2014-1696532400-1696536000@gs-pfaffenwoog.de
SUMMARY:Elternabend 2. Klassen
DESCRIPTION:
URL:https://gs-pfaffenwoog.de/event/elternabend-2-klassen/
END:VEVENT
BEGIN:VEVENT
DTSTART;TZID=Europe/Paris:20231010T083000
DTEND;TZID=Europe/Paris:20231010T100000
DTSTAMP:20260421T144655
CREATED:20230922T063437Z
LAST-MODIFIED:20230922T063608Z
UID:2022-1696926600-1696932000@gs-pfaffenwoog.de
SUMMARY:Fitness-Frühstück der Klasse 4b
DESCRIPTION:
URL:https://gs-pfaffenwoog.de/event/fitness-fruehstueck-der-klasse-4b/
END:VEVENT
BEGIN:VEVENT
DTSTART;TZID=Europe/Paris:20231010T193000
DTEND;TZID=Europe/Paris:20231010T210000
DTSTAMP:20260421T144655
CREATED:20230922T063205Z
LAST-MODIFIED:20230922T063535Z
UID:2016-1696966200-1696971600@gs-pfaffenwoog.de
SUMMARY:Wahl des neuen SEB
DESCRIPTION:Wahl des neuen Schulelternbeirats: \nGewählt werden und teilnehmen dürfen alle Eltern der Schule. \nStimmberechtigt sind alle neu gewählten Klassenelternsprecher:innen\, deren Stellvertreter:innen sowie die gewählten Wahlvertreter:innen.
URL:https://gs-pfaffenwoog.de/event/wahl-des-neuen-seb/
END:VEVENT
BEGIN:VEVENT
DTSTART;TZID=Europe/Paris:20231013T080000
DTEND;TZID=Europe/Paris:20231013T130000
DTSTAMP:20260421T144655
CREATED:20230922T063304Z
LAST-MODIFIED:20230922T063304Z
UID:2018-1697184000-1697202000@gs-pfaffenwoog.de
SUMMARY:Letzter Schultag vor den Herbstferien
DESCRIPTION:
URL:https://gs-pfaffenwoog.de/event/letzter-schultag-vor-den-herbstferien/
END:VEVENT
BEGIN:VEVENT
DTSTART;TZID=Europe/Paris:20231031T083000
DTEND;TZID=Europe/Paris:20231031T100000
DTSTAMP:20260421T144655
CREATED:20230922T063728Z
LAST-MODIFIED:20230922T063728Z
UID:2025-1698741000-1698746400@gs-pfaffenwoog.de
SUMMARY:Kuchenverkauf der Klasse 4c
DESCRIPTION:
URL:https://gs-pfaffenwoog.de/event/kuchenverkauf-der-klasse-4c/
END:VEVENT
END:VCALENDAR