BEGIN:VCALENDAR
VERSION:2.0
PRODID:-//Grundschule Pfaffenwoog - ECPv6.15.13.1//NONSGML v1.0//EN
CALSCALE:GREGORIAN
METHOD:PUBLISH
X-WR-CALNAME:Grundschule Pfaffenwoog
X-ORIGINAL-URL:https://gs-pfaffenwoog.de
X-WR-CALDESC:Veranstaltungen für Grundschule Pfaffenwoog
REFRESH-INTERVAL;VALUE=DURATION:PT1H
X-Robots-Tag:noindex
X-PUBLISHED-TTL:PT1H
BEGIN:VTIMEZONE
TZID:Europe/Paris
BEGIN:DAYLIGHT
TZOFFSETFROM:+0100
TZOFFSETTO:+0200
TZNAME:CEST
DTSTART:20220327T010000
END:DAYLIGHT
BEGIN:STANDARD
TZOFFSETFROM:+0200
TZOFFSETTO:+0100
TZNAME:CET
DTSTART:20221030T010000
END:STANDARD
BEGIN:DAYLIGHT
TZOFFSETFROM:+0100
TZOFFSETTO:+0200
TZNAME:CEST
DTSTART:20230326T010000
END:DAYLIGHT
BEGIN:STANDARD
TZOFFSETFROM:+0200
TZOFFSETTO:+0100
TZNAME:CET
DTSTART:20231029T010000
END:STANDARD
BEGIN:DAYLIGHT
TZOFFSETFROM:+0100
TZOFFSETTO:+0200
TZNAME:CEST
DTSTART:20240331T010000
END:DAYLIGHT
BEGIN:STANDARD
TZOFFSETFROM:+0200
TZOFFSETTO:+0100
TZNAME:CET
DTSTART:20241027T010000
END:STANDARD
END:VTIMEZONE
BEGIN:VEVENT
DTSTART;TZID=Europe/Paris:20230724T080000
DTEND;TZID=Europe/Paris:20230901T170000
DTSTAMP:20260421T160655
CREATED:20230328T090711Z
LAST-MODIFIED:20230328T090736Z
UID:1811-1690185600-1693587600@gs-pfaffenwoog.de
SUMMARY:Sommerferien 2023
DESCRIPTION:Erster Ferientag ist der 24.07.2023\, der erste Schultag ist auf den 04.09.2023 datiert.
URL:https://gs-pfaffenwoog.de/event/sommerferien-2023/
END:VEVENT
BEGIN:VEVENT
DTSTART;TZID=Europe/Paris:20230904T080000
DTEND;TZID=Europe/Paris:20230904T130000
DTSTAMP:20260421T160655
CREATED:20230711T104940Z
LAST-MODIFIED:20230711T105049Z
UID:1976-1693814400-1693832400@gs-pfaffenwoog.de
SUMMARY:1. Schultag nach den Sommerferien für die Klassen 2-4
DESCRIPTION:
URL:https://gs-pfaffenwoog.de/event/abschlussfeier-unserer-4er/
LOCATION:Kreuzsteinhalle
END:VEVENT
BEGIN:VEVENT
DTSTART;TZID=Europe/Paris:20230905T080000
DTEND;TZID=Europe/Paris:20230905T113000
DTSTAMP:20260421T160655
CREATED:20230328T090837Z
LAST-MODIFIED:20230328T090837Z
UID:1813-1693900800-1693913400@gs-pfaffenwoog.de
SUMMARY:Erster Schultag der neuen Erstklässler:innen
DESCRIPTION:
URL:https://gs-pfaffenwoog.de/event/erster-schultag-der-neuen-erstklaesslerinnen/
END:VEVENT
BEGIN:VEVENT
DTSTART;TZID=Europe/Paris:20230922T170000
DTEND;TZID=Europe/Paris:20230922T190000
DTSTAMP:20260421T160655
CREATED:20230328T091130Z
LAST-MODIFIED:20230328T091130Z
UID:1815-1695402000-1695409200@gs-pfaffenwoog.de
SUMMARY:Schuleinschreibung für das Schuljahr 2024/2025
DESCRIPTION:
URL:https://gs-pfaffenwoog.de/event/schuleinschreibung-fuer-das-schuljahr-2024-2025/
END:VEVENT
BEGIN:VEVENT
DTSTART;TZID=Europe/Paris:20230928T190000
DTEND;TZID=Europe/Paris:20230928T200000
DTSTAMP:20260421T160655
CREATED:20230922T062903Z
LAST-MODIFIED:20230922T062903Z
UID:2012-1695927600-1695931200@gs-pfaffenwoog.de
SUMMARY:Elternabend 1. Klassen
DESCRIPTION:
URL:https://gs-pfaffenwoog.de/event/elternabend-1-klassen/
END:VEVENT
BEGIN:VEVENT
DTSTART;TZID=Europe/Paris:20230929T083000
DTEND;TZID=Europe/Paris:20230929T100000
DTSTAMP:20260421T160655
CREATED:20230922T063401Z
LAST-MODIFIED:20230922T063401Z
UID:2020-1695976200-1695981600@gs-pfaffenwoog.de
SUMMARY:Kuchenverkauf der Klasse 4a
DESCRIPTION:
URL:https://gs-pfaffenwoog.de/event/kuchenverkauf-der-klasse-4a-3/
END:VEVENT
BEGIN:VEVENT
DTSTART;TZID=Europe/Paris:20230929T140000
DTEND;TZID=Europe/Paris:20230929T170000
DTSTAMP:20260421T160655
CREATED:20230922T062757Z
LAST-MODIFIED:20230922T062757Z
UID:2010-1695996000-1696006800@gs-pfaffenwoog.de
SUMMARY:Malaktion auf dem Schulhof
DESCRIPTION:
URL:https://gs-pfaffenwoog.de/event/malaktion-auf-dem-schulhof/
END:VEVENT
END:VCALENDAR