BEGIN:VCALENDAR
VERSION:2.0
PRODID:-//Grundschule Pfaffenwoog - ECPv6.15.13.1//NONSGML v1.0//EN
CALSCALE:GREGORIAN
METHOD:PUBLISH
X-ORIGINAL-URL:https://gs-pfaffenwoog.de
X-WR-CALDESC:Veranstaltungen für Grundschule Pfaffenwoog
REFRESH-INTERVAL;VALUE=DURATION:PT1H
X-Robots-Tag:noindex
X-PUBLISHED-TTL:PT1H
BEGIN:VTIMEZONE
TZID:Europe/Paris
BEGIN:DAYLIGHT
TZOFFSETFROM:+0100
TZOFFSETTO:+0200
TZNAME:CEST
DTSTART:20220327T010000
END:DAYLIGHT
BEGIN:STANDARD
TZOFFSETFROM:+0200
TZOFFSETTO:+0100
TZNAME:CET
DTSTART:20221030T010000
END:STANDARD
BEGIN:DAYLIGHT
TZOFFSETFROM:+0100
TZOFFSETTO:+0200
TZNAME:CEST
DTSTART:20230326T010000
END:DAYLIGHT
BEGIN:STANDARD
TZOFFSETFROM:+0200
TZOFFSETTO:+0100
TZNAME:CET
DTSTART:20231029T010000
END:STANDARD
BEGIN:DAYLIGHT
TZOFFSETFROM:+0100
TZOFFSETTO:+0200
TZNAME:CEST
DTSTART:20240331T010000
END:DAYLIGHT
BEGIN:STANDARD
TZOFFSETFROM:+0200
TZOFFSETTO:+0100
TZNAME:CET
DTSTART:20241027T010000
END:STANDARD
END:VTIMEZONE
BEGIN:VEVENT
DTSTART;TZID=Europe/Paris:20230529T080000
DTEND;TZID=Europe/Paris:20230609T170000
DTSTAMP:20260421T205351
CREATED:20230328T090518Z
LAST-MODIFIED:20230328T091320Z
UID:1807-1685347200-1686330000@gs-pfaffenwoog.de
SUMMARY:Pfingstferien
DESCRIPTION:Die Pfingstferien beginnen am 29.05.2023 und enden am 09.06.2023. Erster Schultag nach den Pfingstferien ist somit Mo\, der 12.06.2023.
URL:https://gs-pfaffenwoog.de/event/pfingstferien/
END:VEVENT
BEGIN:VEVENT
DTSTART;TZID=Europe/Paris:20230613T084500
DTEND;TZID=Europe/Paris:20230613T093000
DTSTAMP:20260421T205351
CREATED:20230328T084212Z
LAST-MODIFIED:20230328T084212Z
UID:1775-1686645900-1686648600@gs-pfaffenwoog.de
SUMMARY:Kuchenverkauf der Klasse 1b
DESCRIPTION:
URL:https://gs-pfaffenwoog.de/event/kuchenverkauf-der-klasse-1b/
END:VEVENT
BEGIN:VEVENT
DTSTART;TZID=Europe/Paris:20230614T080000
DTEND;TZID=Europe/Paris:20230614T120000
DTSTAMP:20260421T205351
CREATED:20230328T090136Z
LAST-MODIFIED:20230328T090151Z
UID:1801-1686729600-1686744000@gs-pfaffenwoog.de
SUMMARY:Waldtag der 1. Klassen
DESCRIPTION:
URL:https://gs-pfaffenwoog.de/event/waldtag-der-1-klassen-2/
END:VEVENT
BEGIN:VEVENT
DTSTART;TZID=Europe/Paris:20230620T084500
DTEND;TZID=Europe/Paris:20230620T093000
DTSTAMP:20260421T205351
CREATED:20230328T084245Z
LAST-MODIFIED:20230328T084245Z
UID:1777-1687250700-1687253400@gs-pfaffenwoog.de
SUMMARY:Kuchenverkauf der Klasse 1c
DESCRIPTION:
URL:https://gs-pfaffenwoog.de/event/kuchenverkauf-der-klasse-1c/
END:VEVENT
BEGIN:VEVENT
DTSTART;TZID=Europe/Paris:20230623T080000
DTEND;TZID=Europe/Paris:20230623T170000
DTSTAMP:20260421T205351
CREATED:20230328T090257Z
LAST-MODIFIED:20230328T090257Z
UID:1803-1687507200-1687539600@gs-pfaffenwoog.de
SUMMARY:Sponsorenlauf
DESCRIPTION:Zur Gestaltung des hinteren Schulhofs möchten wir gemeinsam mit unserem Fö-Verein einen Sponsorenlauf veranstalten.
URL:https://gs-pfaffenwoog.de/event/sponsorenlauf/
END:VEVENT
BEGIN:VEVENT
DTSTART;TZID=Europe/Paris:20230627T084500
DTEND;TZID=Europe/Paris:20230627T093000
DTSTAMP:20260421T205351
CREATED:20230328T084416Z
LAST-MODIFIED:20230426T121728Z
UID:1782-1687855500-1687858200@gs-pfaffenwoog.de
SUMMARY:Kuchenverkauf der Klasse 1a
DESCRIPTION:
URL:https://gs-pfaffenwoog.de/event/kuchenverkauf-der-klasse-4a-2/
END:VEVENT
BEGIN:VEVENT
DTSTART;TZID=Europe/Paris:20230628T080000
DTEND;TZID=Europe/Paris:20230628T170000
DTSTAMP:20260421T205351
CREATED:20230427T114328Z
LAST-MODIFIED:20230427T114328Z
UID:1849-1687939200-1687971600@gs-pfaffenwoog.de
SUMMARY:Studientag des Kollegiums
DESCRIPTION:Das Kollegium der GS Pfaffenwoog führt einen Studientag zum Thema  „Digitale Bildung“ durch. Es findet an diesem Tag kein Unterricht statt.
URL:https://gs-pfaffenwoog.de/event/studientag-des-kollegiums/
END:VEVENT
END:VCALENDAR