BEGIN:VCALENDAR
VERSION:2.0
PRODID:-//Grundschule Pfaffenwoog - ECPv6.15.13.1//NONSGML v1.0//EN
CALSCALE:GREGORIAN
METHOD:PUBLISH
X-ORIGINAL-URL:https://gs-pfaffenwoog.de
X-WR-CALDESC:Veranstaltungen für Grundschule Pfaffenwoog
REFRESH-INTERVAL;VALUE=DURATION:PT1H
X-Robots-Tag:noindex
X-PUBLISHED-TTL:PT1H
BEGIN:VTIMEZONE
TZID:Europe/Paris
BEGIN:DAYLIGHT
TZOFFSETFROM:+0100
TZOFFSETTO:+0200
TZNAME:CEST
DTSTART:20220327T010000
END:DAYLIGHT
BEGIN:STANDARD
TZOFFSETFROM:+0200
TZOFFSETTO:+0100
TZNAME:CET
DTSTART:20221030T010000
END:STANDARD
BEGIN:DAYLIGHT
TZOFFSETFROM:+0100
TZOFFSETTO:+0200
TZNAME:CEST
DTSTART:20230326T010000
END:DAYLIGHT
BEGIN:STANDARD
TZOFFSETFROM:+0200
TZOFFSETTO:+0100
TZNAME:CET
DTSTART:20231029T010000
END:STANDARD
BEGIN:DAYLIGHT
TZOFFSETFROM:+0100
TZOFFSETTO:+0200
TZNAME:CEST
DTSTART:20240331T010000
END:DAYLIGHT
BEGIN:STANDARD
TZOFFSETFROM:+0200
TZOFFSETTO:+0100
TZNAME:CET
DTSTART:20241027T010000
END:STANDARD
END:VTIMEZONE
BEGIN:VEVENT
DTSTART;TZID=Europe/Paris:20230403T080000
DTEND;TZID=Europe/Paris:20230411T130000
DTSTAMP:20260421T232919
CREATED:20230328T082950Z
LAST-MODIFIED:20230328T083144Z
UID:1763-1680508800-1681218000@gs-pfaffenwoog.de
SUMMARY:Osterferien
DESCRIPTION:Die Osterferien beginnen am 03.04.2023 und wurden an allen Schulen der Stadt KL um einen Tag verlängert. Letzter Ferientag ist somit der 11.04.2023. \nSchöne Ferien!
URL:https://gs-pfaffenwoog.de/event/osterferien/
END:VEVENT
BEGIN:VEVENT
DTSTART;TZID=Europe/Paris:20230415T190000
DTEND;TZID=Europe/Paris:20230415T223000
DTSTAMP:20260421T232919
CREATED:20230328T084757Z
LAST-MODIFIED:20230328T084757Z
UID:1785-1681585200-1681597800@gs-pfaffenwoog.de
SUMMARY:4. Klässler:innen auf dem Betze (FCK-HSV)
DESCRIPTION:
URL:https://gs-pfaffenwoog.de/event/4-klaesslerinnen-auf-dem-betze-fck-hsv/
END:VEVENT
BEGIN:VEVENT
DTSTART;TZID=Europe/Paris:20230417T090000
DTEND;TZID=Europe/Paris:20230417T130000
DTSTAMP:20260421T232919
CREATED:20230328T083551Z
LAST-MODIFIED:20230328T083649Z
UID:1765-1681722000-1681736400@gs-pfaffenwoog.de
SUMMARY:Stadtmeisterschaften Fußball
DESCRIPTION:Bei den Stadtmeisterschaften am 17.04. im SOC-Sportpark in KL dürfen sich unsere Schüler:innen mit anderen Schulen der Stadt messen.
URL:https://gs-pfaffenwoog.de/event/stadtmeisterschaften-fussball/
END:VEVENT
BEGIN:VEVENT
DTSTART;TZID=Europe/Paris:20230418T084500
DTEND;TZID=Europe/Paris:20230418T093000
DTSTAMP:20260421T232919
CREATED:20230328T083917Z
LAST-MODIFIED:20230328T083917Z
UID:1767-1681807500-1681810200@gs-pfaffenwoog.de
SUMMARY:Kuchenverkauf der Klasse 3a
DESCRIPTION:
URL:https://gs-pfaffenwoog.de/event/kuchenverkauf-der-klasse-3a/
END:VEVENT
BEGIN:VEVENT
DTSTART;TZID=Europe/Paris:20230419T080000
DTEND;TZID=Europe/Paris:20230419T130000
DTSTAMP:20260421T232919
CREATED:20230328T085112Z
LAST-MODIFIED:20230328T085112Z
UID:1789-1681891200-1681909200@gs-pfaffenwoog.de
SUMMARY:Lautrer Kehrwoche
DESCRIPTION:Unsere Schüler:innen beteiligen sich an der gemeinsamen Aktion zur Säuberung verschiedener Plätze in Erfenbach und Siegelbach.
URL:https://gs-pfaffenwoog.de/event/lautrer-kehrwoche/
END:VEVENT
BEGIN:VEVENT
DTSTART;TZID=Europe/Paris:20230421T080000
DTEND;TZID=Europe/Paris:20230421T130000
DTSTAMP:20260421T232919
CREATED:20230328T085414Z
LAST-MODIFIED:20230328T085414Z
UID:1791-1682064000-1682082000@gs-pfaffenwoog.de
SUMMARY:Ausflug in den Zoo (3b)
DESCRIPTION:
URL:https://gs-pfaffenwoog.de/event/ausflug-in-den-zoo-3b/
END:VEVENT
BEGIN:VEVENT
DTSTART;TZID=Europe/Paris:20230426T080000
DTEND;TZID=Europe/Paris:20230428T140000
DTSTAMP:20260421T232919
CREATED:20230328T084920Z
LAST-MODIFIED:20230328T084920Z
UID:1787-1682496000-1682690400@gs-pfaffenwoog.de
SUMMARY:Klassenfahrt der vierten Klassen
DESCRIPTION:Unsere vierten Klassen fahren von Mi-Fr nach Saarbrücken.
URL:https://gs-pfaffenwoog.de/event/klassenfahrt-der-vierten-klassen/
END:VEVENT
END:VCALENDAR