BEGIN:VCALENDAR
VERSION:2.0
PRODID:-//Grundschule Pfaffenwoog - ECPv6.15.13.1//NONSGML v1.0//EN
CALSCALE:GREGORIAN
METHOD:PUBLISH
X-ORIGINAL-URL:https://gs-pfaffenwoog.de
X-WR-CALDESC:Veranstaltungen für Grundschule Pfaffenwoog
REFRESH-INTERVAL;VALUE=DURATION:PT1H
X-Robots-Tag:noindex
X-PUBLISHED-TTL:PT1H
BEGIN:VTIMEZONE
TZID:Europe/Paris
BEGIN:DAYLIGHT
TZOFFSETFROM:+0100
TZOFFSETTO:+0200
TZNAME:CEST
DTSTART:20220327T010000
END:DAYLIGHT
BEGIN:STANDARD
TZOFFSETFROM:+0200
TZOFFSETTO:+0100
TZNAME:CET
DTSTART:20221030T010000
END:STANDARD
BEGIN:DAYLIGHT
TZOFFSETFROM:+0100
TZOFFSETTO:+0200
TZNAME:CEST
DTSTART:20230326T010000
END:DAYLIGHT
BEGIN:STANDARD
TZOFFSETFROM:+0200
TZOFFSETTO:+0100
TZNAME:CET
DTSTART:20231029T010000
END:STANDARD
BEGIN:DAYLIGHT
TZOFFSETFROM:+0100
TZOFFSETTO:+0200
TZNAME:CEST
DTSTART:20240331T010000
END:DAYLIGHT
BEGIN:STANDARD
TZOFFSETFROM:+0200
TZOFFSETTO:+0100
TZNAME:CET
DTSTART:20241027T010000
END:STANDARD
END:VTIMEZONE
BEGIN:VEVENT
DTSTART;TZID=Europe/Paris:20231222T080000
DTEND;TZID=Europe/Paris:20231222T130000
DTSTAMP:20260420T033210
CREATED:20231221T104544Z
LAST-MODIFIED:20231221T104544Z
UID:2144-1703232000-1703250000@gs-pfaffenwoog.de
SUMMARY:Letzter Schultag vor den Winterferien
DESCRIPTION:Die Schule endet für die ersten und zweiten Klassen -wie gewohnt- um 11.50 Uhr\, für die dritten und vierten Klassen um 12.50 Uhr.
URL:https://gs-pfaffenwoog.de/event/letzter-schultag-vor-den-winterferien/
END:VEVENT
BEGIN:VEVENT
DTSTART;TZID=Europe/Paris:20231222T093000
DTEND;TZID=Europe/Paris:20231222T103000
DTSTAMP:20260420T033210
CREATED:20231129T130820Z
LAST-MODIFIED:20231129T130820Z
UID:2122-1703237400-1703241000@gs-pfaffenwoog.de
SUMMARY:Adventsgottesdienst "Stern"
DESCRIPTION:
URL:https://gs-pfaffenwoog.de/event/adventsgottesdienst-stern/
END:VEVENT
END:VCALENDAR